Package: HubPub Version: 1.18.0 Command: /home/biocbuild/bbs-3.22-bioc/R/bin/R CMD check --install=check:HubPub.install-out.txt --library=/home/biocbuild/bbs-3.22-bioc/R/site-library --timings HubPub_1.18.0.tar.gz StartedAt: 2025-11-21 01:17:32 -0500 (Fri, 21 Nov 2025) EndedAt: 2025-11-21 01:19:50 -0500 (Fri, 21 Nov 2025) EllapsedTime: 137.2 seconds RetCode: 0 Status: OK CheckDir: HubPub.Rcheck Warnings: 0