Package: HubPub Version: 1.18.0 Command: /home/biocbuild/bbs-3.22-bioc/R/bin/R CMD build --keep-empty-dirs --no-resave-data --md5 HubPub StartedAt: 2025-11-17 21:31:45 -0500 (Mon, 17 Nov 2025) EndedAt: 2025-11-17 21:32:21 -0500 (Mon, 17 Nov 2025) EllapsedTime: 36.0 seconds RetCode: 0 Status: OK PackageFile: HubPub_1.18.0.tar.gz PackageFileSize: 550.4 KiB