Package: HuBMAPR Version: 1.4.0 Command: /home/biocbuild/R/R/bin/R CMD check --install=check:HuBMAPR.install-out.txt --library=/home/biocbuild/R/R/site-library --no-vignettes --timings HuBMAPR_1.4.0.tar.gz StartedAt: 2025-11-11 10:46:54 -0000 (Tue, 11 Nov 2025) EndedAt: 2025-11-11 10:50:37 -0000 (Tue, 11 Nov 2025) EllapsedTime: 223.4 seconds RetCode: 0 Status: OK CheckDir: HuBMAPR.Rcheck Warnings: 0