Package: HuBMAPR Version: 1.4.0 Command: /home/biocbuild/bbs-3.22-bioc/R/bin/R CMD build --keep-empty-dirs --no-resave-data --md5 HuBMAPR StartedAt: 2025-11-10 18:15:01 -0500 (Mon, 10 Nov 2025) EndedAt: 2025-11-10 18:15:32 -0500 (Mon, 10 Nov 2025) EllapsedTime: 31.0 seconds RetCode: 0 Status: OK PackageFile: HuBMAPR_1.4.0.tar.gz PackageFileSize: 1.378 MiB