Package: HilbertVis Version: 1.67.2 Command: F:\biocbuild\bbs-3.22-bioc\R\bin\R.exe CMD check --no-multiarch --install=check:HilbertVis.install-out.txt --library=F:\biocbuild\bbs-3.22-bioc\R\library --no-vignettes --timings HilbertVis_1.67.2.tar.gz StartedAt: 2025-08-15 04:10:11 -0400 (Fri, 15 Aug 2025) EndedAt: 2025-08-15 04:10:45 -0400 (Fri, 15 Aug 2025) EllapsedTime: 34.4 seconds RetCode: 0 Status: OK CheckDir: HilbertVis.Rcheck Warnings: 0