Package: HilbertCurve Version: 2.2.0 Command: /home/biocbuild/bbs-3.21-bioc/R/bin/R CMD INSTALL HilbertCurve StartedAt: 2025-10-15 15:16:25 -0400 (Wed, 15 Oct 2025) EndedAt: 2025-10-15 15:16:47 -0400 (Wed, 15 Oct 2025) EllapsedTime: 22.0 seconds RetCode: 0 Status: OK