Package: HicAggR Version: 1.4.0 Command: rm -rf HicAggR.buildbin-libdir && mkdir HicAggR.buildbin-libdir && /Users/biocbuild/BBS/utils/build-universal.sh HicAggR_1.4.0.tar.gz /Library/Frameworks/R.framework/Resources/bin/R HicAggR.buildbin-libdir StartedAt: 2025-04-22 00:49:37 -0400 (Tue, 22 Apr 2025) EndedAt: 2025-04-22 00:50:20 -0400 (Tue, 22 Apr 2025) EllapsedTime: 42.7 seconds RetCode: 0 Status: OK PackageFile: HicAggR_1.4.0.tgz PackageFileSize: 3.239 MiB