Package: HiLDA Version: 1.24.0 Command: /home/biocbuild/bbs-3.22-bioc/R/bin/R CMD build --keep-empty-dirs --no-resave-data --md5 HiLDA StartedAt: 2025-11-17 21:30:16 -0500 (Mon, 17 Nov 2025) EndedAt: 2025-11-17 21:33:26 -0500 (Mon, 17 Nov 2025) EllapsedTime: 189.3 seconds RetCode: 0 Status: OK PackageFile: HiLDA_1.24.0.tar.gz PackageFileSize: 2.458 MiB