Package: HiCool Version: 1.10.0 Command: /Library/Frameworks/R.framework/Resources/bin/R CMD build --keep-empty-dirs --no-resave-data HiCool StartedAt: 2025-11-17 21:55:41 -0500 (Mon, 17 Nov 2025) EndedAt: 2025-11-17 21:57:01 -0500 (Mon, 17 Nov 2025) EllapsedTime: 79.7 seconds RetCode: 1 Status: ERROR PackageFile: None PackageFileSize: NA