Package: HiCaptuRe Version: 0.99.15 Command: /home/biocbuild/R/R/bin/R CMD INSTALL HiCaptuRe StartedAt: 2025-10-23 21:16:53 -0000 (Thu, 23 Oct 2025) EndedAt: 2025-10-23 21:18:05 -0000 (Thu, 23 Oct 2025) EllapsedTime: 71.7 seconds RetCode: 0 Status: OK