Package: HiCaptuRe Version: 0.99.15 Command: /home/biocbuild/R/R/bin/R CMD build --keep-empty-dirs --no-resave-data HiCaptuRe StartedAt: 2025-10-21 00:27:42 -0000 (Tue, 21 Oct 2025) EndedAt: 2025-10-21 00:30:24 -0000 (Tue, 21 Oct 2025) EllapsedTime: 162.1 seconds RetCode: 0 Status: OK PackageFile: HiCaptuRe_0.99.15.tar.gz PackageFileSize: 1.718 MiB