Package: HiCaptuRe Version: 1.0.0 Command: /Library/Frameworks/R.framework/Resources/bin/R CMD check --install=check:HiCaptuRe.install-out.txt --library=/Library/Frameworks/R.framework/Resources/library --no-vignettes --timings HiCaptuRe_1.0.0.tar.gz StartedAt: 2025-11-03 21:48:05 -0500 (Mon, 03 Nov 2025) EndedAt: 2025-11-03 21:56:00 -0500 (Mon, 03 Nov 2025) EllapsedTime: 474.9 seconds RetCode: 0 Status: OK CheckDir: HiCaptuRe.Rcheck Warnings: 0