Package: HiCaptuRe Version: 1.0.0 Command: /Library/Frameworks/R.framework/Resources/bin/R CMD INSTALL HiCaptuRe StartedAt: 2025-11-06 15:27:15 -0500 (Thu, 06 Nov 2025) EndedAt: 2025-11-06 15:27:38 -0500 (Thu, 06 Nov 2025) EllapsedTime: 22.8 seconds RetCode: 0 Status: OK