Package: HiCaptuRe Version: 1.0.0 Command: /Library/Frameworks/R.framework/Resources/bin/R CMD build --keep-empty-dirs --no-resave-data HiCaptuRe StartedAt: 2025-11-06 16:40:46 -0500 (Thu, 06 Nov 2025) EndedAt: 2025-11-06 16:41:45 -0500 (Thu, 06 Nov 2025) EllapsedTime: 58.6 seconds RetCode: 0 Status: OK PackageFile: HiCaptuRe_1.0.0.tar.gz PackageFileSize: 1.906 MiB