Package: HiCExperiment Version: 1.8.0 Command: /home/biocbuild/bbs-3.21-bioc/R/bin/R CMD INSTALL HiCExperiment StartedAt: 2025-10-05 15:24:18 -0400 (Sun, 05 Oct 2025) EndedAt: 2025-10-05 15:24:48 -0400 (Sun, 05 Oct 2025) EllapsedTime: 29.5 seconds RetCode: 0 Status: OK