Package: HiCExperiment Version: 1.8.0 Command: /home/biocbuild/bbs-3.21-bioc/R/bin/R CMD build --keep-empty-dirs --no-resave-data HiCExperiment StartedAt: 2025-10-05 17:59:19 -0400 (Sun, 05 Oct 2025) EndedAt: 2025-10-05 18:02:16 -0400 (Sun, 05 Oct 2025) EllapsedTime: 177.2 seconds RetCode: 0 Status: OK PackageFile: HiCExperiment_1.8.0.tar.gz PackageFileSize: 1011 KiB