Package: HiCExperiment Version: 1.8.0 Command: /Library/Frameworks/R.framework/Resources/bin/R CMD INSTALL HiCExperiment StartedAt: 2025-10-02 15:43:31 -0400 (Thu, 02 Oct 2025) EndedAt: 2025-10-02 15:44:36 -0400 (Thu, 02 Oct 2025) EllapsedTime: 64.7 seconds RetCode: 0 Status: OK