Package: HiCExperiment Version: 1.8.0 Command: /Library/Frameworks/R.framework/Resources/bin/R CMD check --install=check:HiCExperiment.install-out.txt --library=/Library/Frameworks/R.framework/Resources/library --no-vignettes --timings HiCExperiment_1.8.0.tar.gz StartedAt: 2025-10-03 04:56:19 -0400 (Fri, 03 Oct 2025) EndedAt: 2025-10-03 05:14:27 -0400 (Fri, 03 Oct 2025) EllapsedTime: 1088.8 seconds RetCode: 0 Status: OK CheckDir: HiCExperiment.Rcheck Warnings: 0