Package: HiCExperiment Version: 1.8.0 Command: rm -rf HiCExperiment.buildbin-libdir && mkdir HiCExperiment.buildbin-libdir && /Users/biocbuild/BBS/utils/build-universal.sh HiCExperiment_1.8.0.tar.gz /Library/Frameworks/R.framework/Resources/bin/R HiCExperiment.buildbin-libdir StartedAt: 2025-10-03 13:26:46 -0400 (Fri, 03 Oct 2025) EndedAt: 2025-10-03 13:28:39 -0400 (Fri, 03 Oct 2025) EllapsedTime: 113.3 seconds RetCode: 0 Status: OK PackageFile: HiCExperiment_1.8.0.tgz PackageFileSize: 1.683 MiB