Package: HiCDCPlus Version: 1.18.0 Command: /home/biocbuild/R/R/bin/R CMD build --keep-empty-dirs --no-resave-data HiCDCPlus StartedAt: 2025-11-14 02:29:19 -0000 (Fri, 14 Nov 2025) EndedAt: 2025-11-14 02:31:43 -0000 (Fri, 14 Nov 2025) EllapsedTime: 144.1 seconds RetCode: 0 Status: OK PackageFile: HiCDCPlus_1.18.0.tar.gz PackageFileSize: 1.21 MiB