Package: HiCDCPlus Version: 1.18.0 Command: /home/biocbuild/bbs-3.22-bioc/R/bin/R CMD check --install=check:HiCDCPlus.install-out.txt --library=/home/biocbuild/bbs-3.22-bioc/R/site-library --timings HiCDCPlus_1.18.0.tar.gz StartedAt: 2025-11-17 00:37:28 -0500 (Mon, 17 Nov 2025) EndedAt: 2025-11-17 00:44:20 -0500 (Mon, 17 Nov 2025) EllapsedTime: 412.4 seconds RetCode: 0 Status: OK CheckDir: HiCDCPlus.Rcheck Warnings: 0