Package: HiCBricks Version: 1.28.0 Command: /home/biocbuild/R/R/bin/R CMD check --install=check:HiCBricks.install-out.txt --library=/home/biocbuild/R/R/site-library --no-vignettes --timings HiCBricks_1.28.0.tar.gz StartedAt: 2025-11-11 10:39:27 -0000 (Tue, 11 Nov 2025) EndedAt: 2025-11-11 10:42:50 -0000 (Tue, 11 Nov 2025) EllapsedTime: 203.2 seconds RetCode: 0 Status: OK CheckDir: HiCBricks.Rcheck Warnings: 0