Package: HiCBricks Version: 1.28.0 Command: /home/biocbuild/bbs-3.22-bioc/R/bin/R CMD check --install=check:HiCBricks.install-out.txt --library=/home/biocbuild/bbs-3.22-bioc/R/site-library --timings HiCBricks_1.28.0.tar.gz StartedAt: 2025-11-07 00:23:48 -0500 (Fri, 07 Nov 2025) EndedAt: 2025-11-07 00:27:08 -0500 (Fri, 07 Nov 2025) EllapsedTime: 199.2 seconds RetCode: 0 Status: OK CheckDir: HiCBricks.Rcheck Warnings: 0