Package: Herper Version: 1.20.0 Command: /home/biocbuild/bbs-3.22-bioc/R/bin/R CMD INSTALL Herper StartedAt: 2025-11-06 15:10:43 -0500 (Thu, 06 Nov 2025) EndedAt: 2025-11-06 15:10:49 -0500 (Thu, 06 Nov 2025) EllapsedTime: 5.7 seconds RetCode: 0 Status: OK