Package: Herper Version: 1.20.0 Command: /Library/Frameworks/R.framework/Resources/bin/R CMD check --install=check:Herper.install-out.txt --library=/Library/Frameworks/R.framework/Resources/library --no-vignettes --timings Herper_1.20.0.tar.gz StartedAt: 2025-11-03 21:47:30 -0500 (Mon, 03 Nov 2025) EndedAt: 2025-11-03 21:48:28 -0500 (Mon, 03 Nov 2025) EllapsedTime: 57.5 seconds RetCode: 0 Status: OK CheckDir: Herper.Rcheck Warnings: 0