Package: Herper Version: 1.20.0 Command: /Library/Frameworks/R.framework/Resources/bin/R CMD INSTALL Herper StartedAt: 2025-11-06 15:06:26 -0500 (Thu, 06 Nov 2025) EndedAt: 2025-11-06 15:06:31 -0500 (Thu, 06 Nov 2025) EllapsedTime: 5.1 seconds RetCode: 0 Status: OK