Package: Herper Version: 1.20.0 Command: /Library/Frameworks/R.framework/Resources/bin/R CMD check --install=check:Herper.install-out.txt --library=/Library/Frameworks/R.framework/Resources/library --no-vignettes --timings Herper_1.20.0.tar.gz StartedAt: 2025-11-06 20:11:16 -0500 (Thu, 06 Nov 2025) EndedAt: 2025-11-06 20:11:37 -0500 (Thu, 06 Nov 2025) EllapsedTime: 21.3 seconds RetCode: 0 Status: OK CheckDir: Herper.Rcheck Warnings: 0