Package: Herper Version: 1.20.0 Command: /Library/Frameworks/R.framework/Resources/bin/R CMD build --keep-empty-dirs --no-resave-data Herper StartedAt: 2025-11-06 16:40:31 -0500 (Thu, 06 Nov 2025) EndedAt: 2025-11-06 16:40:36 -0500 (Thu, 06 Nov 2025) EllapsedTime: 5.1 seconds RetCode: 0 Status: OK PackageFile: Herper_1.20.0.tar.gz PackageFileSize: 408.6 KiB