Package: Herper Version: 1.20.0 Command: rm -rf Herper.buildbin-libdir && mkdir Herper.buildbin-libdir && /Users/biocbuild/BBS/utils/build-universal.sh Herper_1.20.0.tar.gz /Library/Frameworks/R.framework/Resources/bin/R Herper.buildbin-libdir StartedAt: 2025-11-06 23:07:56 -0500 (Thu, 06 Nov 2025) EndedAt: 2025-11-06 23:07:59 -0500 (Thu, 06 Nov 2025) EllapsedTime: 3.1 seconds RetCode: 0 Status: OK PackageFile: Herper_1.20.0.tgz PackageFileSize: 464.4 KiB