Package: Herper Version: 1.20.0 Maintainer: Thomas Carroll MaintainerEmail: tc.infomatics at gmail.com git_url: https://git.bioconductor.org/packages/Herper git_branch: RELEASE_3_22 git_last_commit: b9032f3 git_last_commit_date: 2025-10-29 11:03:38 -0500 (Wed, 29 Oct 2025)