Package: Heatplus Version: 3.18.0 Command: /home/biocbuild/bbs-3.22-bioc/R/bin/R CMD INSTALL Heatplus StartedAt: 2025-11-06 15:03:51 -0500 (Thu, 06 Nov 2025) EndedAt: 2025-11-06 15:04:01 -0500 (Thu, 06 Nov 2025) EllapsedTime: 9.4 seconds RetCode: 0 Status: OK