Package: Heatplus Version: 3.16.0 Command: /Library/Frameworks/R.framework/Resources/bin/R CMD check --install=check:Heatplus.install-out.txt --library=/Library/Frameworks/R.framework/Resources/library --no-vignettes --timings Heatplus_3.16.0.tar.gz StartedAt: 2025-10-15 00:13:39 -0400 (Wed, 15 Oct 2025) EndedAt: 2025-10-15 00:14:10 -0400 (Wed, 15 Oct 2025) EllapsedTime: 31.2 seconds RetCode: 0 Status: OK CheckDir: Heatplus.Rcheck Warnings: 0