Package: Heatplus Version: 3.16.0 Command: /Library/Frameworks/R.framework/Resources/bin/R CMD build --keep-empty-dirs --no-resave-data Heatplus StartedAt: 2025-10-14 02:07:50 -0400 (Tue, 14 Oct 2025) EndedAt: 2025-10-14 02:08:16 -0400 (Tue, 14 Oct 2025) EllapsedTime: 26.2 seconds RetCode: 0 Status: OK PackageFile: Heatplus_3.16.0.tar.gz PackageFileSize: 1.183 MiB