Package: Heatplus Version: 3.16.0 Command: rm -rf Heatplus.buildbin-libdir && mkdir Heatplus.buildbin-libdir && /Users/biocbuild/BBS/utils/build-universal.sh Heatplus_3.16.0.tar.gz /Library/Frameworks/R.framework/Resources/bin/R Heatplus.buildbin-libdir StartedAt: 2025-10-15 18:50:09 -0400 (Wed, 15 Oct 2025) EndedAt: 2025-10-15 18:50:15 -0400 (Wed, 15 Oct 2025) EllapsedTime: 5.6 seconds RetCode: 0 Status: OK PackageFile: Heatplus_3.16.0.tgz PackageFileSize: 1.269 MiB