Package: Harshlight Version: 1.80.0 Command: /Library/Frameworks/R.framework/Resources/bin/R CMD INSTALL Harshlight StartedAt: 2025-10-13 15:28:21 -0400 (Mon, 13 Oct 2025) EndedAt: 2025-10-13 15:28:50 -0400 (Mon, 13 Oct 2025) EllapsedTime: 28.5 seconds RetCode: 0 Status: OK