Package: Harshlight Version: 1.80.0 Command: /Library/Frameworks/R.framework/Resources/bin/R CMD INSTALL Harshlight StartedAt: 2025-10-13 15:42:48 -0400 (Mon, 13 Oct 2025) EndedAt: 2025-10-13 15:42:49 -0400 (Mon, 13 Oct 2025) EllapsedTime: 1.2 seconds RetCode: 1 Status: ERROR