Package: Harshlight Version: 1.80.0 Command: /Library/Frameworks/R.framework/Resources/bin/R CMD check --install=check:Harshlight.install-out.txt --library=/Library/Frameworks/R.framework/Resources/library --no-vignettes --timings Harshlight_1.80.0.tar.gz StartedAt: 2025-06-13 22:03:26 -0400 (Fri, 13 Jun 2025) EndedAt: 2025-06-13 22:04:56 -0400 (Fri, 13 Jun 2025) EllapsedTime: 90.6 seconds RetCode: 0 Status: WARNINGS CheckDir: Harshlight.Rcheck Warnings: 1