Package: Harman Version: 1.38.0 Command: /home/biocbuild/bbs-3.22-bioc/R/bin/R CMD check --install=check:Harman.install-out.txt --library=/home/biocbuild/bbs-3.22-bioc/R/site-library --timings Harman_1.38.0.tar.gz StartedAt: 2025-11-07 00:20:14 -0500 (Fri, 07 Nov 2025) EndedAt: 2025-11-07 00:23:46 -0500 (Fri, 07 Nov 2025) EllapsedTime: 212.2 seconds RetCode: 0 Status: OK CheckDir: Harman.Rcheck Warnings: 0