Package: Harman Version: 1.38.0 Command: /home/biocbuild/bbs-3.22-bioc/R/bin/R CMD build --keep-empty-dirs --no-resave-data --md5 Harman StartedAt: 2025-11-06 18:03:32 -0500 (Thu, 06 Nov 2025) EndedAt: 2025-11-06 18:05:59 -0500 (Thu, 06 Nov 2025) EllapsedTime: 147.2 seconds RetCode: 0 Status: OK PackageFile: Harman_1.38.0.tar.gz PackageFileSize: 2.229 MiB