Package: Harman Version: 1.38.0 Command: rm -rf Harman.buildbin-libdir && mkdir Harman.buildbin-libdir && /Users/biocbuild/BBS/utils/build-universal.sh Harman_1.38.0.tar.gz /Library/Frameworks/R.framework/Resources/bin/R Harman.buildbin-libdir StartedAt: 2025-11-04 01:44:10 -0500 (Tue, 04 Nov 2025) EndedAt: 2025-11-04 01:44:31 -0500 (Tue, 04 Nov 2025) EllapsedTime: 20.6 seconds RetCode: 0 Status: OK PackageFile: Harman_1.38.0.tgz PackageFileSize: 2.179 MiB