Package: Harman Version: 1.38.0 Command: /Library/Frameworks/R.framework/Resources/bin/R CMD INSTALL Harman StartedAt: 2025-11-06 15:02:49 -0500 (Thu, 06 Nov 2025) EndedAt: 2025-11-06 15:02:57 -0500 (Thu, 06 Nov 2025) EllapsedTime: 7.7 seconds RetCode: 0 Status: OK