Package: Harman Version: 1.38.0 Command: /Library/Frameworks/R.framework/Resources/bin/R CMD check --install=check:Harman.install-out.txt --library=/Library/Frameworks/R.framework/Resources/library --no-vignettes --timings Harman_1.38.0.tar.gz StartedAt: 2025-11-06 20:09:56 -0500 (Thu, 06 Nov 2025) EndedAt: 2025-11-06 20:10:22 -0500 (Thu, 06 Nov 2025) EllapsedTime: 26.3 seconds RetCode: 0 Status: OK CheckDir: Harman.Rcheck Warnings: 0