Package: Harman Version: 1.38.0 Command: /Library/Frameworks/R.framework/Resources/bin/R CMD build --keep-empty-dirs --no-resave-data Harman StartedAt: 2025-11-06 16:39:28 -0500 (Thu, 06 Nov 2025) EndedAt: 2025-11-06 16:40:31 -0500 (Thu, 06 Nov 2025) EllapsedTime: 63.7 seconds RetCode: 0 Status: OK PackageFile: Harman_1.38.0.tar.gz PackageFileSize: 2.126 MiB