Package: Harman Version: 1.38.0 Maintainer: Jason Ross MaintainerEmail: jason.ross at csiro.au git_url: https://git.bioconductor.org/packages/Harman git_branch: RELEASE_3_22 git_last_commit: c60055e git_last_commit_date: 2025-10-29 10:32:01 -0500 (Wed, 29 Oct 2025)