Package: HPiP Version: 1.15.0 Command: rm -rf HPiP.buildbin-libdir && mkdir HPiP.buildbin-libdir && /Users/biocbuild/BBS/utils/build-universal.sh HPiP_1.15.0.tar.gz /Library/Frameworks/R.framework/Resources/bin/R HPiP.buildbin-libdir StartedAt: 2025-09-11 02:14:55 -0400 (Thu, 11 Sep 2025) EndedAt: 2025-09-11 02:15:16 -0400 (Thu, 11 Sep 2025) EllapsedTime: 20.9 seconds RetCode: 0 Status: OK PackageFile: HPiP_1.15.0.tgz PackageFileSize: 4.313 MiB