Package: HPiP Version: 1.16.0 Maintainer: Matineh Rahmatbakhsh MaintainerEmail: matinerb.94 at gmail.com git_url: https://git.bioconductor.org/packages/HPiP git_branch: RELEASE_3_22 git_last_commit: 5ee7131 git_last_commit_date: 2025-10-29 11:12:09 -0500 (Wed, 29 Oct 2025)