Package: HMMcopy Version: 1.52.0 Command: /home/biocbuild/R/R/bin/R CMD check --install=check:HMMcopy.install-out.txt --library=/home/biocbuild/R/R/site-library --no-vignettes --timings HMMcopy_1.52.0.tar.gz StartedAt: 2025-11-21 11:50:39 -0000 (Fri, 21 Nov 2025) EndedAt: 2025-11-21 11:52:08 -0000 (Fri, 21 Nov 2025) EllapsedTime: 89.1 seconds RetCode: 0 Status: WARNINGS CheckDir: HMMcopy.Rcheck Warnings: 1