Package: HMMcopy Version: 1.50.0 Command: /home/biocbuild/bbs-3.21-bioc/R/bin/R CMD build --keep-empty-dirs --no-resave-data HMMcopy StartedAt: 2025-10-08 18:00:11 -0400 (Wed, 08 Oct 2025) EndedAt: 2025-10-08 18:00:22 -0400 (Wed, 08 Oct 2025) EllapsedTime: 11.0 seconds RetCode: 0 Status: OK PackageFile: HMMcopy_1.50.0.tar.gz PackageFileSize: 2.148 MiB