Package: HIREewas Version: 1.28.0 Command: /Library/Frameworks/R.framework/Resources/bin/R CMD INSTALL HIREewas StartedAt: 2025-11-06 15:02:23 -0500 (Thu, 06 Nov 2025) EndedAt: 2025-11-06 15:02:30 -0500 (Thu, 06 Nov 2025) EllapsedTime: 6.3 seconds RetCode: 0 Status: OK