Package: HIREewas Version: 1.28.0 Command: /Library/Frameworks/R.framework/Resources/bin/R CMD build --keep-empty-dirs --no-resave-data HIREewas StartedAt: 2025-11-06 16:42:27 -0500 (Thu, 06 Nov 2025) EndedAt: 2025-11-06 16:42:47 -0500 (Thu, 06 Nov 2025) EllapsedTime: 19.2 seconds RetCode: 0 Status: OK PackageFile: HIREewas_1.28.0.tar.gz PackageFileSize: 265.8 KiB